BEGIN:VCALENDAR
VERSION:2.0
PRODID:-//Laëtitia Guillemet - ECPv5.1.6//NONSGML v1.0//EN
CALSCALE:GREGORIAN
METHOD:PUBLISH
X-WR-CALNAME:Laëtitia Guillemet
X-ORIGINAL-URL:https://laetitiaguillemet.com
X-WR-CALDESC:évènements pour Laëtitia Guillemet
BEGIN:VTIMEZONE
TZID:UTC
BEGIN:STANDARD
TZOFFSETFROM:+0000
TZOFFSETTO:+0000
TZNAME:UTC
DTSTART:20200101T000000
END:STANDARD
END:VTIMEZONE
BEGIN:VEVENT
DTSTART;TZID=UTC:20200519T203000
DTEND;TZID=UTC:20200519T203000
DTSTAMP:20260420T104828
CREATED:20200506T103951Z
LAST-MODIFIED:20200506T133814Z
UID:278-1589920200-1589920200@laetitiaguillemet.com
SUMMARY:19 mai 2020 / Beethoven\, 9ème Symphonie avec l'orchestre passion classique
DESCRIPTION:2020 marque le 250ème anniversaire de la naissance de Ludwig Van Beethoven\, chaînon transitoire majeur entre le classicisme et le romantisme.\nLa 9e Symphonie est celle de l’hymne à la joie\, chant de paix universel entre les peuples et hymne de l’Europe.\nSous la baguette du chef Matthieu Peyrègne\, l’Orchestre Passion Classique interprètera cette symphonie grandiose.
URL:https://laetitiaguillemet.com/evenement/19-mai-2020-beethoven-9eme-symphonie-avec-lorchestre-passion-classique/
LOCATION:Théâtre en Dracénie\, Draguignan\, France
CATEGORIES:Concerts
ATTACH;FMTTYPE=image/jpeg:https://laetitiaguillemet.com/wp-content/uploads/Beethoven-9ème-symphonie-e1588758920889.jpg
END:VEVENT
END:VCALENDAR